Workbook
Name \0: '[1]PNT-QUOT-#3'!#REF!
Name \z: '[1]COAT&WRAP-QIOT-#3'!#REF!
Name ______tax1: #REF!
Name _____tax1: #REF!
Name _____USD1: #REF!
Name ____EUR1: #REF!
Name ____EUR2: #REF!
Name ____USD1: #REF!
Name ___DIS1: #REF!
Name ___DIS2: #REF!
Name ___EUR1: #REF!
Name ___EUR2: #REF!
Name ___EUR3: #REF!
Name ___EUR4: #REF!
Name ___EUR7: #REF!
Name ___tax1: #REF!
Name __DIS1: #REF!
Name __DIS2: #REF!
Name __EUR3: #REF!
Name __EUR4: #REF!
Name __EUR7: #REF!
Name __USD1: #REF!
Name _DIS1: #REF!
Name _DIS2: #REF!
Name _EUR1: #REF!
Name _EUR2: #REF!
Name _EUR3: #REF!
Name _EUR4: #REF!
Name _EUR7: #REF!
Name _tax1: #REF!
Name _USD1: #REF!
Name A: '[1]PNT-QUOT-#3'!#REF!
Name AAA: '[2]MTL$-INTER'!#REF!
Name ad: '[3]Appendix 4'!#REF!
Name air: #REF!
Name AllPrice: #REF!
Name Appendix_1: #REF!
Name Appendix_2: #REF!
Name Appendix_3: '[4]Appendix 3'!#REF!
Name Appendix_4: '[4]Appendix 4'!#REF!
Name Appendix_5: #REF!
Name Appendix_6: #REF!
Name Appendix_7: '[4]Du toan'!#REF!
Name as: '[3]Du toan'!#REF!
Name AUCP: '[4]Du toan'!$D$11
Name B: '[1]PNT-QUOT-#3'!#REF!
Name BaseModel: #REF!
Name BaseModelPrice: #REF!
Name BasePrice: #REF!
Name CapTD: #REF!
Name Case_Linkw_AT_211_Fdd: [5]DATA!#REF!
Name Case_Linkw_ATX: [5]DATA!#REF!
Name Case_Linkw_ATX_218_Fdd: [5]DATA!#REF!
Name CDDR_Acer40X_IDE: [5]DATA!#REF!
Name CDDR_Acer48X_IDE: [5]DATA!#REF!
Name CDDR_Acer50X_IDE: [5]DATA!#REF!
Name CleintEmail: #REF!
Name ClientComp0: #REF!
Name ClientCompany: #REF!
Name ClientCountry: #REF!

Sheet TONG HOP
B1: Trường CDN Lý Tự Trọng
B2: STT | C2: Tên hạng mục đầu tư | D2: Kinh phí
B3: 1 | C3: Phòng Thí nghiệm Phay vạn năng | D3: ='1. PTN CK Van Nang'!I14 -> 89086560000
B4: 2 | C4: Phòng Thí nghiệm Công Nghiệp CNC | D4: ='2. PTN CN CNC'!I18 -> 73009200000
B5: 3 | C5: Phòng Thí nghiệm Lập trình CNC | D5: ='3. LAP TRINH CNC'!I25 -> 14387000000
B6: 4 | C6: Phòng Thí nghiệm Đo Lường | D6: ='4. DO LUONG'!I41 -> 13892000000
B7: 5 | C7: Phòng Thí nghiệm Khí nén | D7: ='5. KHI NEN'!I12 -> 7.684e+09
C8: TỔNG CỘNG | D8: =SUM(D3:D7) -> 198058760000

Sheet 1. PTN CK Van Nang
A1: PHỤ LỤC 1 - PHÒNG THÍ NGHIỆM CƠ KHÍ VẠN NĂNG
A2: STT | B2: Danh mục thiết bị | C2: Model | D2: Hãng SX | E2: Xuất xứ | F2: ĐVT | G2: SL | H2: Đơn Giá | I2: Thành tiền
B3: PHÒNG THÍ NGHIỆM CƠ KHÍ VẠN NĂNG
A4: 1 | B4: Máy tiện vạn năng 14D | C4: EMCOMAT 14D | D4: EMCO | E4: EU | F4: Máy | G4: 4 | H4: 3760000000 | I4: =H4*G4 -> 15040000000
A5: 2 | B5: Máy tiện vạn năng 17D | C5: EMCOMAT 17D | D5: EMCO | E5: EU | F5: Máy | G5: 4 | H5: 4298000000 | I5: =H5*G5 -> 17192000000
A6: 3 | B6: Máy phay vạn năng FB3 | C6: FB-3 L | D6: EMCO | E6: EU | F6: Máy | G6: 4 | H6: 4080000000 | I6: =H6*G6 -> 16320000000
A7: 4 | B7: Máy phay vạn năng FB 600MC | C7: FB 600 MC | D7: EMCO | E7: EU | F7: Máy | G7: 4 | H7: 9260000000 | I7: =H7*G7 -> 37040000000
A8: 11 | B8: Máy mài dao | C8: ZB 160 | D8: Chester | E8: UK | F8: Máy | G8: 1 | H8: 3300000000 | I8: =H8*G8 -> 3300000000
A9: 16 | B9: Panme 0-25mm | C9: 103-137 | D9: Mitutoyo | E9: G7 | F9: Bộ | G9: 32 | H9: 1250000 | I9: =H9*G9 -> 40000000
A10: 17 | B10: Panme 25-50mm | C10: 103-138 | D10: Mitutoyo | E10: G7 | F10: Bộ | G10: 32 | H10: 1200000 | I10: =H10*G10 -> 38400000
A11: 18 | B11: Thước cặp 150, 1/50 | C11: 530-104 | D11: Mitutoyo | E11: G7 | F11: Bộ | G11: 32 | H11: 1280000 | I11: =H11*G11 -> 40960000
A12: 21 | B12: Đế từ Đồng hồ so (10mm,1/10) | C12: 7011S-10 | D12: Mitutoyo | E12: G7 | F12: Bộ | G12: 32 | H12: 1350000 | I12: =H12*G12 -> 43200000
A13: 22 | B13: Thước lá 0-500mm | C13: 182-307 | D13: Mitutoyo | E13: G7 | F13: Cái | G13: 32 | H13: 1000000 | I13: =H13*G13 -> 32000000
B14: TỔNG CỘNG | I14: =SUM(I4:I13) -> 89086560000

Sheet 2. PTN CN CNC
A1: PHỤ LỤC 2 - PHÒNG THÍ NGHIỆM CÔNG NGHIỆP CNC
A2: STT | B2: Danh mục thiết bị | C2: Model | D2: Hãng SX | E2: Xuất xứ | F2: ĐVT | G2: SL | H2: Đơn giá | I2: Thành tiền
B3: PHÒNG THỰC HÀNH CN CNC
A4: 1 | B4: Máy phay CNC 3 trục Concept Mill | C4: CM 55 | D4: EMCO | E4: EU | F4: máy | G4: 2 | H4: 3865000000 | I4: =H4*G4 -> 7730000000
A5: 2 | B5: Máy tiện CNC Concept Turn 60 | C5: CT 60 | D5: EMCO | E5: EU | F5: máy | G5: 2 | H5: 3020000000 | I5: =H5*G5 -> 6040000000
A6: 3 | B6: Máy phay CNC 5 trục dành cho đào tạo công nghiệp với 2 bộ điều khiển Sinumerik Operate và Fanuc 31i | C6: CM260 | D6: EMCO | E6: EU | F6: Máy | G6: 1 | H6: 10696000000 | I6: =H6*G6 -> 10696000000
A7: 4 | B7: Máy tiện CNC Concept TURN 460 TCM | C7: CT 460 TCM | D7: EMCO | E7: EU | F7: Máy | G7: 1 | H7: 10568000000 | I7: =H7*G7 -> 10568000000
A8: 5 | B8: Máy gia công tia lửa điện EDM | C8: FORM 20 | D8: Agie charmilles | E8: EU | F8: Bộ | G8: 1 | H8: 8400000000 | I8: =H8*G8 -> 8400000000
A9: 6 | B9: Máy cắt dây EDM | C9: CUT P 350 | D9: Agie charmilles | E9: EU | F9: máy | G9: 1 | H9: 12323000000 | I9: =H9*G9 -> 12323000000
A10: 7 | B10: Gói phần mềm Cad SolidWorks EDU Edition 2018 Academy dùng cho 20 user | C10: Solidwork 2018 Academy | D10: Dassault Systèmes | E10: G7 | F10: Gói | G10: 1 | H10: 2115000000 | I10: =H10*G10 -> 2115000000
A11: 8 | B11: Gói phần mềm Cad/Cam (ESPRIT 2018 dùng cho 20 users Kèm theo post-processor Sinumerik 840D-SL Milling 5-axis | C11: ESPRIT 2018 | D11: DP Technology | E11: G7 | F11: Gói | G11: 1 | H11: 1520000000 | I11: =H11*G11 -> 1520000000
A12: 9 | B12: Máy vi tính để bàn Intel Core i7, Ram 8G Bao gồm màn hình, chuột, bàn phím, HĐH bản quyền | D12: FPT | E12: Việt Nam | F12: Máy | G12: 28 | H12: 27900000 | I12: =H12*G12 -> 781200000
A13: 10 | B13: Bộ bàn chuyên dùng cho máy Concept | D13: Emco | E13: EU | F13: Bộ | G13: 20 | H13: 620000000 | I13: =H13*G13 -> 12400000000
A14: 11 | B14: Ghế xoay | D14: HP | E14: Châu Á | F14: Bộ | G14: 20 | H14: 7500000 | I14: =H14*G14 -> 150000000
A15: 12 | B15: Máy in Lase A4 | D15: HP | E15: Châu Á | F15: Máy | G15: 1 | H15: 7500000 | I15: =H15*G15 -> 7500000
A16: 13 | B16: Máy nén khí và Máy sấy khí nén | D16: Fusheng | E16: Châu Á | F16: bộ | G16: 1 | H16: 265000000 | I16: =H16*G16 -> 265000000
A17: 14 | B17: Máy hút buị công nghiệp 3800W | D17: Hiclean | E17: Châu Á | F17: Máy | G17: 1 | H17: 13500000 | I17: =H17*G17 -> 13500000
A18: TỔNG CỘNG | I18: =SUM(I4:I17) -> 73009200000

Sheet 3. LAP TRINH CNC
A1: PHỤ LỤC 3 - PHÒNG ĐÀO TẠO LẬP TRÌNH CNC
A2: STT | B2: Danh mục thiết bị | C2: Model | D2: Hãng SX | E2: Xuất xứ | F2: ĐVT | G2: SL | H2: Đơn giá | I2: Thành tiền
B3: PHÒNG ĐÀO TẠO LẬP TRÌNH CNC
A4: I | B4: BỘ THỰC HÀNH LẬP TRÌNH VÀ ĐIỀU KHIỂN GIA CÔNG CNC | D4: EMCO | E4: EU | F4: Bộ | G4: 1 | H4: 7312000000 | I4: =H4*G4 -> 7312000000
B5: Sử dụng cho phòng đào tạo lập trình gia công CNC với 20 sinh viên và 1 giáo viên
A6: 1.1 | B6: Phần mềm WinNC cho các hệ điều khiển:
B7: WinNC for Sinumerik Operate -T/M- Multilicences
B8: WinNC for FANUC 31i -T/M - Multilicences
B9: WinNC Heidenhain TNC 426/430 - Multilicences
A10: 1.2 | B10: Phần mềm mô phỏng 3D EMCO 3D-View
A11: 1.3 | B11: Bàn phím điều khiển cho mỗi bộ điều khiển
A12: 1.4 | B12: Hướng dẫn sử dụng tiếng Anh
A13: II | B13: HỆ THỐNG PHẦN MỀM MÔ PHỎNG GIA CÔNG CNC | D13: MTS | E13: G7 | F13: Bộ | G13: 1 | H13: 5050000000 | I13: =H13*G13 -> 5050000000
A14: 2.1 | B14: Gói phần mềm cho 21 máy gồm 20 học sinh và 1 giáo viên, sử dụng khóa cứng theo mạng LAN - phiên bản 8.0
A15: 2.2 | B15: Gói modul TopTurn và TopMill với bộ mã lập trình tiêu chuẩn cho máy tiện 3 trục và phay 3 trục. Ngôn ngữ lập trình: Fanuc 31i
A16: 2.3 | B16: Bộ mã điều khiển lập trình tiêu chuẩn cho máy tiện 4 trục (X, Y, Z, C). Ngôn ngữ lập trình: Sinumerik 840D
A17: 2.4 | B17: Bộ mã điều khiển lập trình tiêu chuẩn cho máy phay 4/5 trục (X, Y, Z, A/C hoặc B/C), ngôn ngữ lập trình: Sinumerik 840D
A18: 2.5 | B18: Module hệ thống kẹp cho máy CNC
A19: III | B19: PHẦN MỀM CAD/CAM
A20: 3.1 | B20: Phần mềm thiết kế CAD 3D SOLIDWORK | F20: gói | G20: 1 | H20: 250000000 | I20: =H20*G20 -> 250000000
B21: - Gói phần mềm dùng cho phòng học 21 bản, quản lý theo mạng Lan
A22: 3.2 | B22: Phần mềm lập trình CAM EMCO ESPRIT | F22: gói | G22: 1 | H22: 1775000000 | I22: =H22*G22 -> 1775000000
B23: - Gói phần mềm dùng cho phòng học 21 bản, quản lý theo mạng Lan
B24: - Post-processor cho máy tiện 2 trục và phay 3 trục của EMCO, kèm theo mô hình đồ họa 3D của máy.
B25: TỔNG CỘNG | I25: =SUM(I3:I24) -> 14387000000

Sheet 4. DO LUONG
A1: PHỤ LỤC 4 - PTN NÂNG CAO ĐO LƯỜNG CƠ ĐIỆN CHUẨN CÔNG NGHIỆP
A2: STT | B2: Danh mục thiết bị | C2: Model | D2: Hãng SX | E2: Xuất xứ | F2: ĐVT | G2: SL | H2: Đơn giá | I2: Thành tiền
A3: I | B3: HỆ ĐÀO TẠO NÂNG CAO ĐO LƯỜNG CƠ ĐIỆN CHUẨN CÔNG NGHIỆP | E3: EU/USA | F3: HT | G3: 1 | H3: 5800000000 | I3: =H3*G3 -> 5800000000
B4: Ứng dụng chính:
B5: + Đào tạo về đo lường cơ học, động lực học và dao động cho học sinh và sinh viên, NCS . .
B6: + Đo và thu thập xử lý dữ liệu
B7: + Đo và điều khiển giám sát hệ thống
B8: + Đo lường động học và phân tích dao động . . . .
B9: + Là thiết bị phục vụ hiệu quả trong công tác đào tạo và nghiên cứu khoa học về đo lường cơ điện tử, đào tạo chuyên sâu về dao động và các hệ động lực. Đồng thời phục vụ công tác kiểm định đánh giá chất lượng của các thiết bị trong lĩnh vực cơ điện tử nói chung.
B10: Hệ thống bao gồm như sau:
A11: 1.1 | B11: Bộ đo lường xử lý tín hiệu chất lượng cao - GANTNER ADVANCED InduDAQ | C11: InduDAQ | D11: GI | E11: EU/USA | F11: bộ | G11: 1
B12: Bộ thu thập dữ liệu Q.BRIXX 16 kênh
B13: Ứng dụng: Dùng để đo di động và cố định cho các thông số về nhiệt độ, gia tốc, momen, lực, ồn, tốc độ xe cơ giới, chuyển vị, biến dạng . . . . và có thể truyền về trung tâm thông qua mạng WiFi.
B14: Module điều khiển và giao diện PC | C14: Q.brixx gate IP | D14: GI | E14: EU/USA | F14: Module | G14: 1
B15: Module đo lường và thu thập dữ liệu A101 | C15: Q.brixx A101 | D15: GI | E15: EU/USA | F15: Module | G15: 1
B16: Module đo lường và thu thập dữ liệu A106 | C16: Q.brixx A106 | D16: GI | E16: EU/USA | F16: Module | G16: 1
B17: Module đo lường và thu thập dữ liệu A107 | C17: Q.brixx A107 | D17: GI | E17: EU/USA | F17: Module | G17: 1
B18: Module đo lường và thu thập dữ liệu A109 | C18: Q.brixx A109 | D18: GI | E18: EU/USA | F18: Module | G18: 1
B19: Module đo lường và thu thập dữ liệu A127 | C19: Q.brixx A127 | D19: GI | E19: EU/USA | F19: Module | G19: 1
A20: 1.2 | B20: Phần mềm đo lường và giám sát điều khiển
B21: PHẦN MỀM TEST COMMANDER | C21: Test commander | D21: GI | E21: EU/USA | F21: Bộ | G21: 1
B22: PHẦN MỀM ĐÀO TẠO NÂNG CAO GI - VIEW Train | C22: GI - VIEW Train | D22: GI | E22: EU/USA | F22: Bộ | G22: 1
B23: PHẦN MỀM NÂNG CAO DEWESOFT - DS net | C23: DEWESOFT-X-DSA | D23: Dewesoft | E23: EU/USA | F23: Bộ | G23: 1
A24: 1.3 | B24: Cảm biến
B25: Đầu đo gia tốc 1 chiều (GENERAL PURPOSE ACCELEROMETER) | D25: Dytran | E25: EU/USA | F25: Cái | G25: 1
B26: Sensor đo tốc độ vòng quay không tiếp xúc (đo vòng quay tại các trục quay) | E26: USA | F26: Cái | G26: 1
B27: Cảm biến đo dịch chuyển có tiếp xúc (Inductance Displacement Transducers) | C27: DLT-200 | D27: KYOWA | E27: G7 | F27: cái | G27: 1
B28: Đầu đo lực (Tension/Compression Load cell) | D28: KYOWA | E28: G7 | F28: cái | G28: 3
B29: Lá điện trở đo biến dạng (Túi 10 lá) | D29: KYOWA | E29: G7 | F29: túi | G29: 100
B30: Đầu đo Microphone | D30: GRASS | E30: EU | F30: Cái | G30: 2
A31: II | B31: Hệ Đào tạo Kỹ thuật Đo lường và Chuẩn đoán máy G‐HTM90 Machinery Vibration Diagnostic System | C31: G‐HTM90 | E31: EU/UK | F31: Hệ | G31: 1 | H31: 3612000000 | I31: =H31*G31 -> 3612000000
B32: G‐HTM90 Series: Là hệ thống máy đo đa năng với các bài giảng và bộ tạo lỗi đa dạng dùng cho mục đích đào tạo kỹ thuật và chuẩn đoán máy
B33: Bao gồm:
B34: Khối điều khiển và thiết bị thí nghiệm (Experimental unit & control) | C34: G‐HTM90.1
B35: Phần mềm đào tạo và hệ thống thu thập dữ liệu | C35: G‐HTM90.2
A36: III | B36: Hệ thiết bị đào tạo chuyên ngành máy công cụ trên cơ sở đo và kiểm soát lực gia công 6 thành phần - CUTTING FORCE LEARNING SYSTEM | E36: EU/UK | F36: Hệ | G36: 1 | H36: 4480000000 | I36: =H36*G36 -> 4480000000
B37: Bao gồm:
B38: - Bộ đo lực gia công 6 thành phần
B39: - Bộ thu thập và xử lý số liệu
B40: - Bộ phần mềm hệ thống và tài liệu giảng dạy
B41: TỔNG CỘNG | I41: =SUM(I3:I40) -> 13892000000

Sheet 5. KHI NEN
A1: PHỤ LỤC 5 - PHÒNG THÍ NGHIỆM KHÍ NÉN
A2: STT | B2: Danh mục thiết bị | C2: Model | D2: Hãng SX | E2: Xuất xứ | F2: ĐVT | G2: SL | H2: Đơn giá | I2: Thành tiền
B3: PHÒNG THÍ NGHIỆM KHÍ NÉN | D3: Lucas-Nulle | E3: G7 | F3: Bộ | G3: 1 | H3: 7.684e+09 | I3: =H3*G3 -> 7.684e+09
A4: I | B4: Mô hình đào tạo thực hành khí nén
A5: 1.1 | B5: Mô hình thực hành cơ bản khí nén | D5: Lucas-Nulle | E5: G7 | F5: Bộ | G5: 1
A6: 1.2 | B6: Mô hình thực hành khí điện khí nén | D6: Lucas-Nulle | E6: G7 | F6: Bộ | G6: 1
B7: - Các thiết bị bổ sung cho phần khí nén bên trên để thực hành về điện khí nén | D7: Lucas-Nulle | E7: G7 | F7: Bộ
A8: II | B8: Mô hình đào tạo thực hành thủy lực | D8: Lucas-Nulle
A9: 1 | B9: Mô hình thực hành cơ bản thủy lực | D9: Lucas-Nulle | E9: G7 | F9: Bộ | G9: 1
A10: 2 | B10: Mô hình thực hành nâng cao thủy lực | D10: Lucas-Nulle | E10: G7 | F10: Bộ | G10: 1
A11: 3 | B11: Mô hình thực hành điện thủy lực | D11: Lucas-Nulle | E11: G7 | F11: Bộ | G11: 1
B12: TỔNG CỘNG | I12: =I3 -> 7.684e+09
